BEGIN:VCALENDAR
VERSION:2.0
PRODID:-//WORLINGHAM CEVC PRIMARY SCHOOL - ECPv6.15.20//NONSGML v1.0//EN
CALSCALE:GREGORIAN
METHOD:PUBLISH
X-ORIGINAL-URL:https://www.worlingham.org
X-WR-CALDESC:Events for WORLINGHAM CEVC PRIMARY SCHOOL
REFRESH-INTERVAL;VALUE=DURATION:PT1H
X-Robots-Tag:noindex
X-PUBLISHED-TTL:PT1H
BEGIN:VTIMEZONE
TZID:UTC
BEGIN:STANDARD
TZOFFSETFROM:+0000
TZOFFSETTO:+0000
TZNAME:UTC
DTSTART:20240101T000000
END:STANDARD
END:VTIMEZONE
BEGIN:VEVENT
DTSTART;TZID=UTC:20251222T000000
DTEND;TZID=UTC:20260102T235959
DTSTAMP:20260420T175657
CREATED:20251121T162119Z
LAST-MODIFIED:20251121T162249Z
UID:3894-1766361600-1767398399@www.worlingham.org
SUMMARY:Christmas Holiday
DESCRIPTION:
URL:https://www.worlingham.org/event/christmas-holiday-3
END:VEVENT
BEGIN:VEVENT
DTSTART;TZID=UTC:20260105T000000
DTEND;TZID=UTC:20260105T235959
DTSTAMP:20260420T175657
CREATED:20251121T162358Z
LAST-MODIFIED:20251121T162359Z
UID:3896-1767571200-1767657599@www.worlingham.org
SUMMARY:PD Day
DESCRIPTION:
URL:https://www.worlingham.org/event/pd-day-11
END:VEVENT
END:VCALENDAR